BEGIN:VCALENDAR
VERSION:2.0
PRODID:-//clintonhabitat.org//NONSGML kigkonsult.se iCalcreator 2.30.10//
CALSCALE:GREGORIAN
METHOD:PUBLISH
UID:48d77c38-5214-4b60-80ea-a133522e46a2
X-WR-CALDESC:More info to come.
X-WR-RELCALID:b2f7c104340d68339ae4c715c0fae260
X-WR-TIMEZONE:America/New_York
BEGIN:VTIMEZONE
TZID:America/New_York
BEGIN:STANDARD
TZNAME:EST
DTSTART:20251102T020000
TZOFFSETFROM:-0400
TZOFFSETTO:-0500
RDATE:20261101T020000
RDATE:20271107T020000
END:STANDARD
BEGIN:DAYLIGHT
TZNAME:EDT
DTSTART:20260308T020000
TZOFFSETFROM:-0500
TZOFFSETTO:-0400
RDATE:20270314T020000
END:DAYLIGHT
END:VTIMEZONE
BEGIN:VEVENT
UID:57d507db-d2c2-4297-b421-aac8e20e3d79
DTSTAMP:20260422T180507Z
DESCRIPTION:More info to come.
DTSTART;TZID=America/New_York:20260717T060000
DTEND;TZID=America/New_York:20260717T060001
LOCATION:Snow Hill Country Club\, 11093 State Route 73\, New Vienna\, OH 45
 177 US
SUMMARY:30th Annual Swing for a Cause golf outing
END:VEVENT
END:VCALENDAR
