BEGIN:VCALENDAR
VERSION:2.0
PRODID:-//clintonhabitat.org//NONSGML kigkonsult.se iCalcreator 2.30.10//
CALSCALE:GREGORIAN
METHOD:PUBLISH
UID:589d81c5-41fa-406c-8b9b-a697e471cca1
X-WR-CALDESC:Fundraiser for Habitat for Humanity-Clinton County
X-WR-RELCALID:c562fd9b98de07cb74d2ef5da292c92f
X-WR-TIMEZONE:America/New_York
BEGIN:VTIMEZONE
TZID:America/New_York
BEGIN:STANDARD
TZNAME:EST
DTSTART:20251102T020000
TZOFFSETFROM:-0400
TZOFFSETTO:-0500
RDATE:20261101T020000
END:STANDARD
BEGIN:DAYLIGHT
TZNAME:EDT
DTSTART:20260308T020000
TZOFFSETFROM:-0500
TZOFFSETTO:-0400
RDATE:20270314T020000
END:DAYLIGHT
END:VTIMEZONE
BEGIN:VEVENT
UID:ceb932e2-f446-4b76-ac98-efb06f539174
DTSTAMP:20260422T180659Z
DESCRIPTION:Fundraiser for Habitat for Humanity-Clinton County
DTSTART;TZID=America/New_York:20260423T110000
DTEND;TZID=America/New_York:20260423T220000
LOCATION:37 W. Locust St.\, Wilmington\, OH 45177 US
SUMMARY:Fiesta Veracruz Dine to Donate
END:VEVENT
END:VCALENDAR
