BEGIN:VCALENDAR
VERSION:2.0
PRODID:-//clintonhabitat.org//NONSGML kigkonsult.se iCalcreator 2.30.10//
CALSCALE:GREGORIAN
METHOD:PUBLISH
UID:031d5ce0-4bdb-45bb-a360-d7d6eb096e03
X-WR-CALDESC:Fundraiser for Habitat for Humanity-Clinton County
X-WR-RELCALID:a4eac6038f9590ab601de7ca33f5e4da
X-WR-TIMEZONE:America/New_York
BEGIN:VTIMEZONE
TZID:America/New_York
BEGIN:STANDARD
TZNAME:EST
DTSTART:20251102T020000
TZOFFSETFROM:-0400
TZOFFSETTO:-0500
RDATE:20261101T020000
END:STANDARD
BEGIN:DAYLIGHT
TZNAME:EDT
DTSTART:20250309T020000
TZOFFSETFROM:-0500
TZOFFSETTO:-0400
RDATE:20260308T020000
RDATE:20270314T020000
END:DAYLIGHT
END:VTIMEZONE
BEGIN:VEVENT
UID:239fa7d9-6101-4eb5-9888-0f708df802b9
DTSTAMP:20260422T180903Z
DESCRIPTION:Fundraiser for Habitat for Humanity-Clinton County
DTSTART;TZID=America/New_York:20260220T163000
DTEND;TZID=America/New_York:20260220T190000
LOCATION:St. Columbkille Catholic Church Parish Center\, 73 N. Mulberry St.
 \, Wilmington\, OH 45177 US
SUMMARY:Knights of Columbus Fish Fry
END:VEVENT
END:VCALENDAR
