BEGIN:VCALENDAR
VERSION:2.0
PRODID:-//clintonhabitat.org//NONSGML kigkonsult.se iCalcreator 2.30.10//
CALSCALE:GREGORIAN
METHOD:PUBLISH
UID:cf090223-a236-40f6-96f9-902386a9a15b
X-WR-CALDESC:Fundraiser for Habitat for Humanity-Clinton County
X-WR-RELCALID:6bedcf3885f127787122507dc6261157
X-WR-TIMEZONE:America/New_York
BEGIN:VTIMEZONE
TZID:America/New_York
BEGIN:STANDARD
TZNAME:EST
DTSTART:20251102T020000
TZOFFSETFROM:-0400
TZOFFSETTO:-0500
RDATE:20261101T020000
END:STANDARD
BEGIN:DAYLIGHT
TZNAME:EDT
DTSTART:20260308T020000
TZOFFSETFROM:-0500
TZOFFSETTO:-0400
RDATE:20270314T020000
END:DAYLIGHT
END:VTIMEZONE
BEGIN:VEVENT
UID:791fdb8c-ad85-4e62-b36a-676f4bfa339f
DTSTAMP:20260422T113026Z
DESCRIPTION:Fundraiser for Habitat for Humanity-Clinton County
DTSTART;TZID=America/New_York:20260402T060000
DTEND;TZID=America/New_York:20260402T060001
LOCATION:Donatos Pizza\, 860 Rombach Ave.\, Wilmington\, OH 45177 US
SUMMARY:Donatos fundraiser
END:VEVENT
END:VCALENDAR
